BEGIN:VCALENDAR
VERSION:2.0
PRODID:-//Sabre//Sabre VObject 4.5.8//EN
CALSCALE:GREGORIAN
BEGIN:VEVENT
UID:sabre-vobject-3f54a9af-69a9-445d-ac30-6e2453fc0c62
DTSTAMP:20260424T121635Z
SUMMARY:Vorabendmesse / für die Lebenden und Verstorbenen der Pfarrgemeind
 e
DESCRIPTION:https://www2.bistum-augsburg.de/gottesdienste/vorabendmesse-fue
 r-die-lebenden-und-verstorbenen-der-pfarrgemeinde_id1727203
DTSTART;TZID=Europe/Berlin:20260425T190000
DURATION:PT30M
LOCATION:St. Josef der Arbeiter\, Gablonzer Str. 2\, 87668 Rieden
END:VEVENT
END:VCALENDAR
