BEGIN:VCALENDAR
VERSION:2.0
PRODID:-//Sabre//Sabre VObject 4.5.8//EN
CALSCALE:GREGORIAN
BEGIN:VEVENT
UID:sabre-vobject-efeb1c14-9dd3-4329-bd8d-f68ca07f7220
DTSTAMP:20260424T015424Z
SUMMARY:k e i n e   Hl. Messe
DESCRIPTION:https://www2.bistum-augsburg.de/gottesdienste/k-e-i-n-e-hl-mess
 e_id1727206
DTSTART;TZID=Europe/Berlin:20260430T000000
DURATION:PT30M
LOCATION:St. Josef der Arbeiter\, Gablonzer Str. 2\, 87668 Rieden
END:VEVENT
END:VCALENDAR
