BEGIN:VCALENDAR
VERSION:2.0
PRODID:-//Sabre//Sabre VObject 4.5.8//EN
CALSCALE:GREGORIAN
BEGIN:VEVENT
UID:sabre-vobject-134047a7-c2fc-4f7b-b987-6475d629bd0e
DTSTAMP:20260423T110814Z
SUMMARY:Lehenbühl: Rosenkranz
DESCRIPTION:https://www2.bistum-augsburg.de/gottesdienste/lehenbuehl-rosenk
 ranz_id1727220
DTSTART;TZID=Europe/Berlin:20260506T183000
DURATION:PT30M
LOCATION:Mariä Schmerzen u. St. Ulrich\, Kirchhof 4\, 87764 Maria Steinbac
 h
END:VEVENT
END:VCALENDAR
