BEGIN:VCALENDAR
VERSION:2.0
PRODID:-//Sabre//Sabre VObject 4.5.8//EN
CALSCALE:GREGORIAN
BEGIN:VEVENT
UID:sabre-vobject-2fb41c8b-f9c2-4f63-a453-d02635ea4c45
DTSTAMP:20260424T093935Z
SUMMARY:Bittgang nach Lehenbühl ab Pfarrhof\, dort Hl. Messe.
DESCRIPTION:https://www2.bistum-augsburg.de/gottesdienste/bittgang-nach-leh
 enbuehl-ab-pfarrhof-dort-hl-messe_id1727231
DTSTART;TZID=Europe/Berlin:20260511T183000
DURATION:PT30M
LOCATION:St. Gordian und Epimach
END:VEVENT
END:VCALENDAR
