BEGIN:VCALENDAR
VERSION:2.0
PRODID:-//Sabre//Sabre VObject 4.5.8//EN
CALSCALE:GREGORIAN
BEGIN:VEVENT
UID:sabre-vobject-82865d9f-e713-4d2c-b5a6-f5a5152618a0
DTSTAMP:20260424T234921Z
SUMMARY:Bittgang nach Landholz ab Lehenbühl\, dort Hl. Messe\; anschl. Rü
 ckkehr zur Lehenbühlkirche
DESCRIPTION:https://www2.bistum-augsburg.de/gottesdienste/bittgang-nach-lan
 dholz-ab-lehenbuehl-dort-hl-messe-anschl-rueckkehr-zur-lehenbuehlkirche_id
 1727232
DTSTART;TZID=Europe/Berlin:20260512T183000
DURATION:PT30M
LOCATION:St. Gordian und Epimach
END:VEVENT
END:VCALENDAR
