BEGIN:VCALENDAR
VERSION:2.0
PRODID:-//Sabre//Sabre VObject 4.5.8//EN
CALSCALE:GREGORIAN
BEGIN:VEVENT
UID:sabre-vobject-38621feb-55ef-4420-8e3f-14537974d339
DTSTAMP:20260424T074951Z
SUMMARY:Landholz: Hl. Messe
DESCRIPTION:https://www2.bistum-augsburg.de/gottesdienste/landholz-hl-messe
 _id1727233
DTSTART;TZID=Europe/Berlin:20260508T080000
DURATION:PT30M
LOCATION:St. Gordian und Epimach
END:VEVENT
END:VCALENDAR
