BEGIN:VCALENDAR
VERSION:2.0
PRODID:-//Sabre//Sabre VObject 4.5.8//EN
CALSCALE:GREGORIAN
BEGIN:VEVENT
UID:sabre-vobject-ff708c79-1220-4089-beb1-104f15f0bf8e
DTSTAMP:20260424T180738Z
SUMMARY:Kath. Frauenbund und Seniorinnen: Kaffeekränzchen zum Muttertag mi
 t Rosi Lutz\, Anmeldung bei Marianne Egger (Tel. 620)
DESCRIPTION:https://www2.bistum-augsburg.de/gottesdienste/kath-frauenbund-u
 nd-seniorinnen-kaffeekraenzchen-zum-muttertag-mit-rosi-lutz-anmeldung-bei-
 marianne-egger-tel-620_id1727243
DTSTART;TZID=Europe/Berlin:20260513T140000
DURATION:PT30M
LOCATION:St. Leonhard
END:VEVENT
END:VCALENDAR
