BEGIN:VCALENDAR
VERSION:2.0
PRODID:-//Sabre//Sabre VObject 4.5.8//EN
CALSCALE:GREGORIAN
BEGIN:VEVENT
UID:sabre-vobject-6136e34b-d406-4a33-8bca-f3fc3f4ebd46
DTSTAMP:20260424T015304Z
SUMMARY:Hl. Messe
DESCRIPTION:https://www2.bistum-augsburg.de/gottesdienste/hl-messe_id172725
 6
DTSTART;TZID=Europe/Berlin:20260525T103000
DURATION:PT30M
LOCATION:St. Gordian und Epimach
END:VEVENT
END:VCALENDAR
