BEGIN:VCALENDAR
VERSION:2.0
PRODID:-//Sabre//Sabre VObject 4.5.8//EN
CALSCALE:GREGORIAN
BEGIN:VEVENT
UID:sabre-vobject-a805d553-8426-4c53-ada7-d57bcb9d01a5
DTSTAMP:20260424T003634Z
SUMMARY:Maiandacht ?
DESCRIPTION:https://www2.bistum-augsburg.de/gottesdienste/maiandacht_id1727
 257
DTSTART;TZID=Europe/Berlin:20260525T190000
DURATION:PT30M
LOCATION:St. Gordian und Epimach
END:VEVENT
END:VCALENDAR
