BEGIN:VCALENDAR
VERSION:2.0
PRODID:-//Sabre//Sabre VObject 4.5.8//EN
CALSCALE:GREGORIAN
BEGIN:VEVENT
UID:sabre-vobject-788c2de5-9cb8-4a3c-9b36-fceb656bd02d
DTSTAMP:20260424T122220Z
SUMMARY:Rosenkranz
DESCRIPTION:https://www2.bistum-augsburg.de/gottesdienste/rosenkranz_id1727
 260
DTSTART;TZID=Europe/Berlin:20260425T173000
DURATION:PT30M
LOCATION:Zu Unserer Lieben Frau
END:VEVENT
END:VCALENDAR
