BEGIN:VCALENDAR
VERSION:2.0
PRODID:-//Sabre//Sabre VObject 4.5.8//EN
CALSCALE:GREGORIAN
BEGIN:VEVENT
UID:sabre-vobject-f23aef65-8208-4d3e-beb6-9241ebe4fa50
DTSTAMP:20260424T210558Z
SUMMARY:Maiandacht\nmitgest. von der Marnbacher Saitenmusik
DESCRIPTION:https://www2.bistum-augsburg.de/gottesdienste/maiandacht-mitges
 t-von-der-marnbacher-saitenmusik_id1727272
DTSTART;TZID=Europe/Berlin:20260503T190000
DURATION:PT30M
LOCATION:St. Michael\, Seeshaupter Str. 14\, 82362 Weilheim Marnbach
END:VEVENT
END:VCALENDAR
