BEGIN:VCALENDAR
VERSION:2.0
PRODID:-//Sabre//Sabre VObject 4.5.8//EN
CALSCALE:GREGORIAN
BEGIN:VEVENT
UID:sabre-vobject-06af6036-6899-4924-8e6e-d312864a1cbc
DTSTAMP:20260424T112619Z
SUMMARY:Bittmesse u. Wettersegen mit der Steinbacher Kreuzreliquie
DESCRIPTION:https://www2.bistum-augsburg.de/gottesdienste/bittmesse-u-wette
 rsegen-mit-der-steinbacher-kreuzreliquie_id1727286
DTSTART;TZID=Europe/Berlin:20260512T090000
DURATION:PT30M
LOCATION:Mariä Schmerzen u. St. Ulrich\, Kirchhof 4\, 87764 Maria Steinbac
 h
END:VEVENT
END:VCALENDAR
