BEGIN:VCALENDAR
VERSION:2.0
PRODID:-//Sabre//Sabre VObject 4.5.8//EN
CALSCALE:GREGORIAN
BEGIN:VEVENT
UID:sabre-vobject-5cc9865c-986c-4962-8497-5b549f9320c6
DTSTAMP:20260424T162946Z
SUMMARY:Hl. Messe i. d. Schwesternkapelle von Regens Wagner
DESCRIPTION:https://www2.bistum-augsburg.de/gottesdienste/hl-messe-i-d-schw
 esternkapelle-von-regens-wagner_id1727307
DTSTART;TZID=Europe/Berlin:20260505T073000
DURATION:PT30M
LOCATION:St. Peter und Paul\, Kirchtalstr. 2\, 87763 Lautrach
END:VEVENT
END:VCALENDAR
