BEGIN:VCALENDAR
VERSION:2.0
PRODID:-//Sabre//Sabre VObject 4.5.8//EN
CALSCALE:GREGORIAN
BEGIN:VEVENT
UID:sabre-vobject-991b75d1-fe03-4f7c-8c17-64d92a9d8dec
DTSTAMP:20260426T015552Z
SUMMARY:Amtsstunde bis 18:30
DESCRIPTION:https://www2.bistum-augsburg.de/gottesdienste/amtsstunde-bis-18
 -30_id1727317
DTSTART;TZID=Europe/Berlin:20260508T180000
DURATION:PT30M
LOCATION:St. Peter und Paul\, Kirchtalstr. 2\, 87763 Lautrach
END:VEVENT
END:VCALENDAR
