BEGIN:VCALENDAR
VERSION:2.0
PRODID:-//Sabre//Sabre VObject 4.5.8//EN
CALSCALE:GREGORIAN
BEGIN:VEVENT
UID:sabre-vobject-376a6e40-7671-45ef-a75a-baeb0d93b5bd
DTSTAMP:20260422T225213Z
SUMMARY:Hl. Amt in der Hauskirche von Regens Wagner
DESCRIPTION:https://www2.bistum-augsburg.de/gottesdienste/hl-amt-in-der-hau
 skirche-von-regens-wagner_id1727320
DTSTART;TZID=Europe/Berlin:20260510T090000
DURATION:PT30M
LOCATION:St. Peter und Paul\, Kirchtalstr. 2\, 87763 Lautrach
END:VEVENT
END:VCALENDAR
