BEGIN:VCALENDAR
VERSION:2.0
PRODID:-//Sabre//Sabre VObject 4.5.8//EN
CALSCALE:GREGORIAN
BEGIN:VEVENT
UID:sabre-vobject-5fc467e3-8efc-4099-830d-49c97b4f20e3
DTSTAMP:20260423T211454Z
SUMMARY:Hl. Messe - anschl. Rosenkranz
DESCRIPTION:https://www2.bistum-augsburg.de/gottesdienste/hl-messe-anschl-r
 osenkranz_id1727332
DTSTART;TZID=Europe/Berlin:20260523T080000
DURATION:PT30M
LOCATION:St. Gordian und Epimach
END:VEVENT
END:VCALENDAR
