BEGIN:VCALENDAR
VERSION:2.0
PRODID:-//Sabre//Sabre VObject 4.5.8//EN
CALSCALE:GREGORIAN
BEGIN:VEVENT
UID:sabre-vobject-b2808a65-65e9-430c-ae55-19553b3432ea
DTSTAMP:20260424T210203Z
SUMMARY:Abendmesse
DESCRIPTION:https://www2.bistum-augsburg.de/gottesdienste/abendmesse_id1727
 334
DTSTART;TZID=Europe/Berlin:20260519T190000
DURATION:PT30M
LOCATION:St. Gordian und Epimach
END:VEVENT
END:VCALENDAR
