BEGIN:VCALENDAR
VERSION:2.0
PRODID:-//Sabre//Sabre VObject 4.5.8//EN
CALSCALE:GREGORIAN
BEGIN:VEVENT
UID:sabre-vobject-44d0db6f-4071-42c4-a51a-f4b12ce7f5e7
DTSTAMP:20260424T174216Z
SUMMARY:Hl. Amt - Fest Kreuzauffindung mit Kreuzwasserweihe
DESCRIPTION:https://www2.bistum-augsburg.de/gottesdienste/hl-amt-fest-kreuz
 auffindung-mit-kreuzwasserweihe_id1727337
DTSTART;TZID=Europe/Berlin:20260504T090000
DURATION:PT30M
LOCATION:Mariä Schmerzen u. St. Ulrich\, Kirchhof 4\, 87764 Maria Steinbac
 h
END:VEVENT
END:VCALENDAR
