BEGIN:VCALENDAR
VERSION:2.0
PRODID:-//Sabre//Sabre VObject 4.5.8//EN
CALSCALE:GREGORIAN
BEGIN:VEVENT
UID:sabre-vobject-006a5875-f7f5-46cc-8d15-12a8aca6debb
DTSTAMP:20260424T180932Z
SUMMARY:Heilige Messe und stille Anbetung für den Frieden bis 17:00 Uhr
DESCRIPTION:https://www2.bistum-augsburg.de/gottesdienste/heilige-messe-und
 -stille-anbetung-fuer-den-frieden-bis-17-00-uhr_id1727351
DTSTART;TZID=Europe/Berlin:20260507T160000
DURATION:PT30M
LOCATION:Mariä Schmerzen u. St. Ulrich\, Kirchhof 4\, 87764 Maria Steinbac
 h
END:VEVENT
END:VCALENDAR
