BEGIN:VCALENDAR
VERSION:2.0
PRODID:-//Sabre//Sabre VObject 4.5.8//EN
CALSCALE:GREGORIAN
BEGIN:VEVENT
UID:sabre-vobject-592741bd-b7dc-4a08-a803-8d49226c0bfc
DTSTAMP:20260424T060859Z
SUMMARY:Wallfahrermesse
DESCRIPTION:https://www2.bistum-augsburg.de/gottesdienste/wallfahrermesse_i
 d1727355
DTSTART;TZID=Europe/Berlin:20260510T113000
DURATION:PT30M
LOCATION:Mariä Schmerzen u. St. Ulrich\, Kirchhof 4\, 87764 Maria Steinbac
 h
END:VEVENT
END:VCALENDAR
