BEGIN:VCALENDAR
VERSION:2.0
PRODID:-//Sabre//Sabre VObject 4.5.8//EN
CALSCALE:GREGORIAN
BEGIN:VEVENT
UID:sabre-vobject-f125d0af-b62d-41ae-8824-3b39c4a593e1
DTSTAMP:20260424T033239Z
SUMMARY:Hl. Amt
DESCRIPTION:https://www2.bistum-augsburg.de/gottesdienste/hl-amt_id1727398
DTSTART;TZID=Europe/Berlin:20260524T090000
DURATION:PT30M
LOCATION:Mariä Schmerzen u. St. Ulrich\, Kirchhof 4\, 87764 Maria Steinbac
 h
END:VEVENT
END:VCALENDAR
