BEGIN:VCALENDAR
VERSION:2.0
PRODID:-//Sabre//Sabre VObject 4.5.8//EN
CALSCALE:GREGORIAN
BEGIN:VEVENT
UID:sabre-vobject-343a24df-499d-4387-9811-7918db90d8f4
DTSTAMP:20260423T092641Z
SUMMARY:Rosenkranz in den Anliegen unserer Zeit
DESCRIPTION:https://www2.bistum-augsburg.de/gottesdienste/rosenkranz-in-den
 -anliegen-unserer-zeit_id1727415
DTSTART;TZID=Europe/Berlin:20260520T082500
DURATION:PT30M
LOCATION:Unsere Liebe Frau
END:VEVENT
END:VCALENDAR
