BEGIN:VCALENDAR
VERSION:2.0
PRODID:-//Sabre//Sabre VObject 4.5.8//EN
CALSCALE:GREGORIAN
BEGIN:VEVENT
UID:sabre-vobject-a7f3ebe4-b239-4953-bc07-ebbf1bd326c2
DTSTAMP:20260424T233834Z
SUMMARY:Heilige Messe
DESCRIPTION:https://www2.bistum-augsburg.de/gottesdienste/heilige-messe_id1
 727446
DTSTART;TZID=Europe/Berlin:20260511T183000
DURATION:PT30M
LOCATION:St. Moritz\, St. Mauritius-Straße 10\, 86561 Autenzell
END:VEVENT
END:VCALENDAR
