BEGIN:VCALENDAR
VERSION:2.0
PRODID:-//Sabre//Sabre VObject 4.5.8//EN
CALSCALE:GREGORIAN
BEGIN:VEVENT
UID:sabre-vobject-cfecbe28-c7b5-49b1-9fe5-50c62edbf390
DTSTAMP:20260422T143532Z
SUMMARY:Pfarrgottesdienst für die Lebenden und Verstorbenen der Pfarreieng
 emeinschaft
DESCRIPTION:https://www2.bistum-augsburg.de/gottesdienste/pfarrgottesdienst
 -fuer-die-lebenden-und-verstorbenen-der-pfarreiengemeinschaft_id1727453
DTSTART;TZID=Europe/Berlin:20260503T083000
DURATION:PT30M
LOCATION:St. Vitus\, Kirchweg 2\, 86706 Weichering
END:VEVENT
END:VCALENDAR
