BEGIN:VCALENDAR
VERSION:2.0
PRODID:-//Sabre//Sabre VObject 4.5.8//EN
CALSCALE:GREGORIAN
BEGIN:VEVENT
UID:sabre-vobject-5eec0b1d-50bf-4808-9c13-d192947a2932
DTSTAMP:20260426T010101Z
SUMMARY:Anbetung und Gebet um geistliche Berufung
DESCRIPTION:https://www2.bistum-augsburg.de/gottesdienste/anbetung-und-gebe
 t-um-geistliche-berufung_id1727457
DTSTART;TZID=Europe/Berlin:20260507T183000
DURATION:PT30M
LOCATION:St. Gallus
END:VEVENT
END:VCALENDAR
