BEGIN:VCALENDAR
VERSION:2.0
PRODID:-//Sabre//Sabre VObject 4.5.8//EN
CALSCALE:GREGORIAN
BEGIN:VEVENT
UID:sabre-vobject-6be776df-05a2-466f-a8a9-74e345952288
DTSTAMP:20260424T151855Z
SUMMARY:Hl. Messe i. d. Schwesternkapelle von Regens Wagner
DESCRIPTION:https://www2.bistum-augsburg.de/gottesdienste/hl-messe-i-d-schw
 esternkapelle-von-regens-wagner_id1727471
DTSTART;TZID=Europe/Berlin:20260519T073000
DURATION:PT30M
LOCATION:St. Peter und Paul\, Kirchtalstr. 2\, 87763 Lautrach
END:VEVENT
END:VCALENDAR
