BEGIN:VCALENDAR
VERSION:2.0
PRODID:-//Sabre//Sabre VObject 4.5.8//EN
CALSCALE:GREGORIAN
BEGIN:VEVENT
UID:sabre-vobject-a22ed95c-b564-47a2-9d20-b2942b651b49
DTSTAMP:20260425T113155Z
SUMMARY:Wortgottesfeier\, die Kinder treffen sich zum Kindergottesdienst im
  Pfarrsaal
DESCRIPTION:https://www2.bistum-augsburg.de/gottesdienste/wortgottesfeier-d
 ie-kinder-treffen-sich-zum-kindergottesdienst-im-pfarrsaal_id1727472
DTSTART;TZID=Europe/Berlin:20260426T103000
DURATION:PT30M
LOCATION:St. Ulrich
END:VEVENT
END:VCALENDAR
