BEGIN:VCALENDAR
VERSION:2.0
PRODID:-//Sabre//Sabre VObject 4.5.8//EN
CALSCALE:GREGORIAN
BEGIN:VEVENT
UID:sabre-vobject-52c70f3f-a4c0-4410-9cb0-a9229c409102
DTSTAMP:20260423T110754Z
SUMMARY:Aussetzung des Allerheiligsten\, Rosenkranz und Möglichkeit zur Au
 ssprache und zum Empfang des Sakramentes der Versöhnung
DESCRIPTION:https://www2.bistum-augsburg.de/gottesdienste/aussetzung-des-al
 lerheiligsten-rosenkranz-und-moeglichkeit-zur-aussprache-und-zum-empfang-d
 es-sakramentes-der-versoehnung_id1727478
DTSTART;TZID=Europe/Berlin:20260502T171500
DURATION:PT30M
LOCATION:Mariä Himmelfahrt
END:VEVENT
END:VCALENDAR
