BEGIN:VCALENDAR
VERSION:2.0
PRODID:-//Sabre//Sabre VObject 4.5.8//EN
CALSCALE:GREGORIAN
BEGIN:VEVENT
UID:sabre-vobject-dc561e91-24f2-481f-b9c6-c51bba426cdf
DTSTAMP:20260424T185502Z
SUMMARY:Heilige Messe\, anschl. Maiandacht bis 10.00 Uhr
DESCRIPTION:https://www2.bistum-augsburg.de/gottesdienste/heilige-messe-ans
 chl-maiandacht-bis-10-00-uhr_id1727488
DTSTART;TZID=Europe/Berlin:20260519T090000
DURATION:PT30M
LOCATION:St. Andreas\, Kirchstraße 2\, 85302 Klenau-Junkenhofen
END:VEVENT
END:VCALENDAR
