BEGIN:VCALENDAR
VERSION:2.0
PRODID:-//Sabre//Sabre VObject 4.5.8//EN
CALSCALE:GREGORIAN
BEGIN:VEVENT
UID:sabre-vobject-88fa5dff-b2bc-4061-81d3-d2df0cb50594
DTSTAMP:20260425T023658Z
SUMMARY:Pfarrgottesdienst\, Es spielt das Jugendblasorchester
DESCRIPTION:https://www2.bistum-augsburg.de/gottesdienste/pfarrgottesdienst
 -es-spielt-das-jugendblasorchester_id1727492
DTSTART;TZID=Europe/Berlin:20260426T094500
DURATION:PT30M
LOCATION:St. Martin
END:VEVENT
END:VCALENDAR
