BEGIN:VCALENDAR
VERSION:2.0
PRODID:-//Sabre//Sabre VObject 4.5.8//EN
CALSCALE:GREGORIAN
BEGIN:VEVENT
UID:sabre-vobject-2bf1e8c9-4641-485d-a9a4-9f2aa5abf5fb
DTSTAMP:20260425T234207Z
SUMMARY:1. feierliche Maiandacht
DESCRIPTION:https://www2.bistum-augsburg.de/gottesdienste/1-feierliche-maia
 ndacht_id1727497
DTSTART;TZID=Europe/Berlin:20260501T183000
DURATION:PT30M
LOCATION:St. Martin
END:VEVENT
END:VCALENDAR
