BEGIN:VCALENDAR
VERSION:2.0
PRODID:-//Sabre//Sabre VObject 4.5.8//EN
CALSCALE:GREGORIAN
BEGIN:VEVENT
UID:sabre-vobject-3f65c732-5630-413f-a869-fe89abd9382f
DTSTAMP:20260425T234219Z
SUMMARY:Ökumenischer Volksfestgottesdienst im Festzelt
DESCRIPTION:https://www2.bistum-augsburg.de/gottesdienste/oekumenischer-vol
 ksfestgottesdienst-im-festzelt_id1727515
DTSTART;TZID=Europe/Berlin:20260503T101500
DURATION:PT30M
LOCATION:St. Ludwig
END:VEVENT
END:VCALENDAR
