BEGIN:VCALENDAR
VERSION:2.0
PRODID:-//Sabre//Sabre VObject 4.5.8//EN
CALSCALE:GREGORIAN
BEGIN:VEVENT
UID:sabre-vobject-c204f03e-1587-4931-87b1-3c6dee673581
DTSTAMP:20260425T191350Z
SUMMARY:Treffpunkt am Bahnübergang Röthelmoos zum Bittgang nach St. Alban
DESCRIPTION:https://www2.bistum-augsburg.de/gottesdienste/treffpunkt-am-bah
 nuebergang-roethelmoos-zum-bittgang-nach-st-alban_id1727517
DTSTART;TZID=Europe/Berlin:20260513T183000
DURATION:PT30M
LOCATION:Mariä Himmelfahrt
END:VEVENT
END:VCALENDAR
