BEGIN:VCALENDAR
VERSION:2.0
PRODID:-//Sabre//Sabre VObject 4.5.8//EN
CALSCALE:GREGORIAN
BEGIN:VEVENT
UID:sabre-vobject-90ef7672-df99-4ab3-8dad-c2f443138192
DTSTAMP:20260424T114937Z
SUMMARY:Hl. Messe in der Schwesternkapelle von Regens Wagner
DESCRIPTION:https://www2.bistum-augsburg.de/gottesdienste/hl-messe-in-der-s
 chwesternkapelle-von-regens-wagner_id1727523
DTSTART;TZID=Europe/Berlin:20260521T103000
DURATION:PT30M
LOCATION:St. Peter und Paul\, Kirchtalstr. 2\, 87763 Lautrach
END:VEVENT
END:VCALENDAR
