BEGIN:VCALENDAR
VERSION:2.0
PRODID:-//Sabre//Sabre VObject 4.5.8//EN
CALSCALE:GREGORIAN
BEGIN:VEVENT
UID:sabre-vobject-56e2add6-63b4-4b47-8522-b175a277cd87
DTSTAMP:20260424T114938Z
SUMMARY:Lehenbühl: Hl. Messe  Entfällt!
DESCRIPTION:https://www2.bistum-augsburg.de/gottesdienste/lehenbuehl-hl-mes
 se-entfaellt_id1727534
DTSTART;TZID=Europe/Berlin:20260529T080000
DURATION:PT30M
LOCATION:Mariä Schmerzen u. St. Ulrich\, Kirchhof 4\, 87764 Maria Steinbac
 h
END:VEVENT
END:VCALENDAR
