BEGIN:VCALENDAR
VERSION:2.0
PRODID:-//Sabre//Sabre VObject 4.5.8//EN
CALSCALE:GREGORIAN
BEGIN:VEVENT
UID:sabre-vobject-f03d98b2-d3dd-4d4a-90c2-99061be1c70f
DTSTAMP:20260424T112604Z
SUMMARY:Tauffeier
DESCRIPTION:https://www2.bistum-augsburg.de/gottesdienste/tauffeier_id17275
 58
DTSTART;TZID=Europe/Berlin:20260530T110000
DURATION:PT30M
LOCATION:Mariä Himmelfahrt
END:VEVENT
END:VCALENDAR
