BEGIN:VCALENDAR
VERSION:2.0
PRODID:-//Sabre//Sabre VObject 4.5.8//EN
CALSCALE:GREGORIAN
BEGIN:VEVENT
UID:sabre-vobject-c5a11b91-2996-4666-9777-6709c9b2fbf7
DTSTAMP:20260426T002449Z
SUMMARY:Hl. Messe in der Schwesternkapelle von Regens Wagner
DESCRIPTION:https://www2.bistum-augsburg.de/gottesdienste/hl-messe-in-der-s
 chwesternkapelle-von-regens-wagner_id1727559
DTSTART;TZID=Europe/Berlin:20260522T073000
DURATION:PT30M
LOCATION:St. Peter und Paul\, Kirchtalstr. 2\, 87763 Lautrach
END:VEVENT
END:VCALENDAR
