BEGIN:VCALENDAR
VERSION:2.0
PRODID:-//Sabre//Sabre VObject 4.5.8//EN
CALSCALE:GREGORIAN
BEGIN:VEVENT
UID:sabre-vobject-0f339645-8e56-48db-b64c-dd6b5575db12
DTSTAMP:20260424T172334Z
SUMMARY:Rosenkranz in den Anliegen unserer Zeit
DESCRIPTION:https://www2.bistum-augsburg.de/gottesdienste/rosenkranz-in-den
 -anliegen-unserer-zeit_id1727570
DTSTART;TZID=Europe/Berlin:20260520T182500
DURATION:PT30M
LOCATION:St. Pankratius
END:VEVENT
END:VCALENDAR
