BEGIN:VCALENDAR
VERSION:2.0
PRODID:-//Sabre//Sabre VObject 4.5.8//EN
CALSCALE:GREGORIAN
BEGIN:VEVENT
UID:sabre-vobject-9f827723-5d28-4ae1-8eac-e6355fa708a7
DTSTAMP:20260424T084020Z
SUMMARY:Amtsstunde bis 18:30
DESCRIPTION:https://www2.bistum-augsburg.de/gottesdienste/amtsstunde-bis-18
 -30_id1727579
DTSTART;TZID=Europe/Berlin:20260522T180000
DURATION:PT30M
LOCATION:St. Peter und Paul\, Kirchtalstr. 2\, 87763 Lautrach
END:VEVENT
END:VCALENDAR
