BEGIN:VCALENDAR
VERSION:2.0
PRODID:-//Sabre//Sabre VObject 4.5.8//EN
CALSCALE:GREGORIAN
BEGIN:VEVENT
UID:sabre-vobject-c28023f7-d32f-4daa-bbe3-653d7c00df4a
DTSTAMP:20260424T223401Z
SUMMARY:Hl. Amt in der Hauskirche von Regens Wagner
DESCRIPTION:https://www2.bistum-augsburg.de/gottesdienste/hl-amt-in-der-hau
 skirche-von-regens-wagner_id1727582
DTSTART;TZID=Europe/Berlin:20260524T090000
DURATION:PT30M
LOCATION:St. Peter und Paul\, Kirchtalstr. 2\, 87763 Lautrach
END:VEVENT
END:VCALENDAR
