BEGIN:VCALENDAR
VERSION:2.0
PRODID:-//Sabre//Sabre VObject 4.5.8//EN
CALSCALE:GREGORIAN
BEGIN:VEVENT
UID:sabre-vobject-2f385f39-a9ef-4097-8bbf-5594b92fe90e
DTSTAMP:20260423T110813Z
SUMMARY:Vorabendmesse\, Verabschiedung und Begrüßung des Pfarrgemeinderat
 es
DESCRIPTION:https://www2.bistum-augsburg.de/gottesdienste/vorabendmesse-ver
 abschiedung-und-begruessung-des-pfarrgemeinderates_id1727585
DTSTART;TZID=Europe/Berlin:20260502T183000
DURATION:PT30M
LOCATION:St. Johannes Baptist
END:VEVENT
END:VCALENDAR
