BEGIN:VCALENDAR
VERSION:2.0
PRODID:-//Sabre//Sabre VObject 4.5.8//EN
CALSCALE:GREGORIAN
BEGIN:VEVENT
UID:sabre-vobject-d7eaaacf-3a43-47be-a06d-2a92dda40d83
DTSTAMP:20260424T175703Z
SUMMARY:Hl. Messe  Entfällt!
DESCRIPTION:https://www2.bistum-augsburg.de/gottesdienste/hl-messe-entfaell
 t_id1727610
DTSTART;TZID=Europe/Berlin:20260527T080000
DURATION:PT30M
LOCATION:Hlgst. Dreifaltigkeit\, Illerbeurer Str. 2\, 87758 Kronburg-Illerb
 euren
END:VEVENT
END:VCALENDAR
