BEGIN:VCALENDAR
VERSION:2.0
PRODID:-//Sabre//Sabre VObject 4.5.8//EN
CALSCALE:GREGORIAN
BEGIN:VEVENT
UID:sabre-vobject-962e2bc4-79fa-4dde-bcee-9bece6ed8384
DTSTAMP:20260423T092655Z
SUMMARY:Pfarrgottesdienst f. leb. u. verst. Ang. der PG\nanschl. Empfang an
 l. 50. Geburtstag  von H. Pfarrer Eichler
DESCRIPTION:https://www2.bistum-augsburg.de/gottesdienste/pfarrgottesdienst
 -f-leb-u-verst-ang-der-pg-anschl-empfang-anl-50-geburtstag-von-h-pfarrer-e
 ichler_id1727654
DTSTART;TZID=Europe/Berlin:20260426T100000
DURATION:PT30M
LOCATION:St. Alban
END:VEVENT
END:VCALENDAR
