BEGIN:VCALENDAR
VERSION:2.0
PRODID:-//Sabre//Sabre VObject 4.5.8//EN
CALSCALE:GREGORIAN
BEGIN:VEVENT
UID:sabre-vobject-0bf6b242-7c06-489a-bdb4-0dcbc2e61063
DTSTAMP:20260424T095109Z
SUMMARY:Heilige Messe im Festzelt des SC Mönstetten
DESCRIPTION:https://www2.bistum-augsburg.de/gottesdienste/heilige-messe-im-
 festzelt-des-sc-moenstetten_id1727679
DTSTART;TZID=Europe/Berlin:20260524T090000
DURATION:PT30M
LOCATION:St. Johannes Baptist
END:VEVENT
END:VCALENDAR
