BEGIN:VCALENDAR
VERSION:2.0
PRODID:-//Sabre//Sabre VObject 4.5.8//EN
CALSCALE:GREGORIAN
BEGIN:VEVENT
UID:sabre-vobject-7ce92144-7b78-4c7a-8040-671b3c4c2c94
DTSTAMP:20260424T200609Z
SUMMARY:Maiandacht - gestaltet vom Pfarrgemeinderat mit anschl. Kaffeenachm
 ittag
DESCRIPTION:https://www2.bistum-augsburg.de/gottesdienste/maiandacht-gestal
 tet-vom-pfarrgemeinderat-mit-anschl-kaffeenachmittag_id1727682
DTSTART;TZID=Europe/Berlin:20260507T140000
DURATION:PT30M
LOCATION:St. Gordian und Epimach\, Kirchberg 5\, 89368 Winterbach
END:VEVENT
END:VCALENDAR
