BEGIN:VCALENDAR
VERSION:2.0
PRODID:-//Sabre//Sabre VObject 4.5.8//EN
CALSCALE:GREGORIAN
BEGIN:VEVENT
UID:sabre-vobject-d3855a21-19ef-4c3b-9931-d0a8a36b2347
DTSTAMP:20260424T213742Z
SUMMARY:Heilige Messe
DESCRIPTION:https://www2.bistum-augsburg.de/gottesdienste/heilige-messe_id1
 727683
DTSTART;TZID=Europe/Berlin:20260513T190000
DURATION:PT30M
LOCATION:St. Gordian und Epimach\, Kirchberg 5\, 89368 Winterbach
END:VEVENT
END:VCALENDAR
