BEGIN:VCALENDAR
VERSION:2.0
PRODID:-//Sabre//Sabre VObject 4.5.8//EN
CALSCALE:GREGORIAN
BEGIN:VEVENT
UID:sabre-vobject-d5903e3b-5895-4b8b-9e4d-4d25aff879bd
DTSTAMP:20260425T134935Z
SUMMARY:Maiandacht
DESCRIPTION:https://www2.bistum-augsburg.de/gottesdienste/maiandacht_id1727
 692
DTSTART;TZID=Europe/Berlin:20260528T183000
DURATION:PT30M
LOCATION:St. Gallus
END:VEVENT
END:VCALENDAR
