BEGIN:VCALENDAR
VERSION:2.0
PRODID:-//Sabre//Sabre VObject 4.5.8//EN
CALSCALE:GREGORIAN
BEGIN:VEVENT
UID:sabre-vobject-46e3c507-650d-4b06-a48b-c9277a4680a6
DTSTAMP:20260424T220745Z
SUMMARY:Sonntag-Vorabendmesse für die Pfarreiengemeinschaft
DESCRIPTION:https://www2.bistum-augsburg.de/gottesdienste/sonntag-vorabendm
 esse-fuer-die-pfarreiengemeinschaft_id1727693
DTSTART;TZID=Europe/Berlin:20260530T190000
DURATION:PT30M
LOCATION:St. Gallus
END:VEVENT
END:VCALENDAR
