BEGIN:VCALENDAR
VERSION:2.0
PRODID:-//Sabre//Sabre VObject 4.5.8//EN
CALSCALE:GREGORIAN
BEGIN:VEVENT
UID:sabre-vobject-d6e1d16d-61b3-42a7-aa66-11d14277ead4
DTSTAMP:20260423T054800Z
SUMMARY:Wortgottesdienst
DESCRIPTION:https://www2.bistum-augsburg.de/gottesdienste/wortgottesdienst_
 id1727694
DTSTART;TZID=Europe/Berlin:20260503T090000
DURATION:PT30M
LOCATION:St. Laurentius
END:VEVENT
END:VCALENDAR
