BEGIN:VCALENDAR
VERSION:2.0
PRODID:-//Sabre//Sabre VObject 4.5.8//EN
CALSCALE:GREGORIAN
BEGIN:VEVENT
UID:sabre-vobject-1d3029cb-72ed-4231-81f3-68f3edb9d156
DTSTAMP:20260423T143500Z
SUMMARY:Pfarrkirche: Hl. Messe
DESCRIPTION:https://www2.bistum-augsburg.de/gottesdienste/pfarrkirche-hl-me
 sse_id1727710
DTSTART;TZID=Europe/Berlin:20260428T090000
DURATION:PT30M
LOCATION:Mariä Himmelfahrt
END:VEVENT
END:VCALENDAR
